BEGIN:VCALENDAR
VERSION:2.0
PRODID:-//Sustainability Today - ECPv6.15.17.1//NONSGML v1.0//EN
CALSCALE:GREGORIAN
METHOD:PUBLISH
X-WR-CALNAME:Sustainability Today
X-ORIGINAL-URL:https://sustainabilitytoday.co.uk
X-WR-CALDESC:Events for Sustainability Today
REFRESH-INTERVAL;VALUE=DURATION:PT1H
X-Robots-Tag:noindex
X-PUBLISHED-TTL:PT1H
BEGIN:VTIMEZONE
TZID:Europe/London
BEGIN:DAYLIGHT
TZOFFSETFROM:+0000
TZOFFSETTO:+0100
TZNAME:BST
DTSTART:20240331T010000
END:DAYLIGHT
BEGIN:STANDARD
TZOFFSETFROM:+0100
TZOFFSETTO:+0000
TZNAME:GMT
DTSTART:20241027T010000
END:STANDARD
BEGIN:DAYLIGHT
TZOFFSETFROM:+0000
TZOFFSETTO:+0100
TZNAME:BST
DTSTART:20250330T010000
END:DAYLIGHT
BEGIN:STANDARD
TZOFFSETFROM:+0100
TZOFFSETTO:+0000
TZNAME:GMT
DTSTART:20251026T010000
END:STANDARD
BEGIN:DAYLIGHT
TZOFFSETFROM:+0000
TZOFFSETTO:+0100
TZNAME:BST
DTSTART:20260329T010000
END:DAYLIGHT
BEGIN:STANDARD
TZOFFSETFROM:+0100
TZOFFSETTO:+0000
TZNAME:GMT
DTSTART:20261025T010000
END:STANDARD
END:VTIMEZONE
BEGIN:VEVENT
DTSTART;TZID=Europe/London:20250709T090000
DTEND;TZID=Europe/London:20250710T160000
DTSTAMP:20260424T024903
CREATED:20241011T153156Z
LAST-MODIFIED:20250602T141250Z
UID:5145-1752051600-1752163200@sustainabilitytoday.co.uk
SUMMARY:The World Biogas Expo 2025
DESCRIPTION:The World Biogas Summit and Expo are the world’s leading events solely dedicated to anaerobic digestion (AD) and biogas\, attended by industry leaders\, policymakers and technology providers from around the world.  This year’s gathering will be held on 9-10 July at the NEC in Birmingham. \nOrganised by the UK’s Anaerobic Digestion and Bioresources Association (ADBA) in partnership with the World Biogas Association (WBA)\, the World Biogas Expo is the world’s leading exhibition dedicated to the biogas and AD sectors. Visitors will be presented with the latest innovations\, services and technologies driving progress in the industry. Over 150 companies will exhibit on products and activities relating to AD\, agriculture\, land management\, waste and recycling\, utilities and more – making this the essential event for buyers and all those looking to increase plant efficiency\, improve productivity and boost profitability. \nAttendees will also enjoy two days of technical and product presentations in the Engine Room theatre – a compelling window into market and regulatory trends and the operational progress that are taking this industry to the next level. \nThe co-located World Biogas Summit is a senior level forum which will highlight the increasingly significant role the biogas industry plays in providing solutions to climate change and other global challenges – such as energy and food security as well as air and ocean pollution. With a stellar list of speakers past and present\, the Summit will discuss how to mobilise climate financing and showcase innovative technologies\, among other pressing topics for the sector. It will continue to highlight the huge potential of the biogas sector in promoting the transition to clean energy and decarbonised agriculture\, to achieve food security\, sustainable waste management and a circular economy. \nBoth the Summit and Expo will also provide ample opportunities to network and share knowledge and expertise. These are must-attend events for anyone interested in exploring this rapidly growing and game-changing industry. \nFind out more at:\nwww.world-biogas-summit.com\nwww.biogastradeshow.com
URL:https://sustainabilitytoday.co.uk/event/the-world-biogas-expo-2025
LOCATION:NEC\, Pendigo Way\, Marston Green\, Birmingham\, West Midlands\, B40 1NT\, United Kingdom
ATTACH;FMTTYPE=image/jpeg:https://sustainabilitytoday.co.uk/wp-content/uploads/2024/10/TheWorldBiogasExpo2025_Event.jpg
ORGANIZER;CN="World Biogas Association":MAILTO:info@worldbiogasassociation.org
END:VEVENT
END:VCALENDAR