BEGIN:VCALENDAR
VERSION:2.0
PRODID:-//Sustainability Today - ECPv6.15.17.1//NONSGML v1.0//EN
CALSCALE:GREGORIAN
METHOD:PUBLISH
X-ORIGINAL-URL:https://sustainabilitytoday.co.uk
X-WR-CALDESC:Events for Sustainability Today
REFRESH-INTERVAL;VALUE=DURATION:PT1H
X-Robots-Tag:noindex
X-PUBLISHED-TTL:PT1H
BEGIN:VTIMEZONE
TZID:Europe/London
BEGIN:DAYLIGHT
TZOFFSETFROM:+0000
TZOFFSETTO:+0100
TZNAME:BST
DTSTART:20240331T010000
END:DAYLIGHT
BEGIN:STANDARD
TZOFFSETFROM:+0100
TZOFFSETTO:+0000
TZNAME:GMT
DTSTART:20241027T010000
END:STANDARD
BEGIN:DAYLIGHT
TZOFFSETFROM:+0000
TZOFFSETTO:+0100
TZNAME:BST
DTSTART:20250330T010000
END:DAYLIGHT
BEGIN:STANDARD
TZOFFSETFROM:+0100
TZOFFSETTO:+0000
TZNAME:GMT
DTSTART:20251026T010000
END:STANDARD
BEGIN:DAYLIGHT
TZOFFSETFROM:+0000
TZOFFSETTO:+0100
TZNAME:BST
DTSTART:20260329T010000
END:DAYLIGHT
BEGIN:STANDARD
TZOFFSETFROM:+0100
TZOFFSETTO:+0000
TZNAME:GMT
DTSTART:20261025T010000
END:STANDARD
END:VTIMEZONE
BEGIN:VEVENT
DTSTART;TZID=Europe/London:20251119T100000
DTEND;TZID=Europe/London:20251120T163000
DTSTAMP:20260423T181243
CREATED:20251022T125125Z
LAST-MODIFIED:20251022T125125Z
UID:5506-1763546400-1763656200@sustainabilitytoday.co.uk
SUMMARY:elementalLONDON
DESCRIPTION:Join the UK’s dedicated event for built environment professionals responsible for reducing energy use and carbon emissions in commercial and large-scale residential projects. \nOver two days\, elementalLONDON will bring you the latest products\, innovations\, and solutions to help you deliver on your Net Zero goals — all under one roof. \nelementalLONDON will feature five content areas\, with seminars and debates on all the major issues facing those tasked with decarbonising buildings\, while making them affordable\, comfortable and sustainable. \nAs part of a long-term strategic partnership\, CIBSE’s Build2Perform Live will be aligned with elementalLONDON for 2025 and beyond\, which will include the CIBSE-approved CPD programme in two Build2Perform Theatres. \nFollowing a successful debut at InstallerSHOW 2025\, The HAUS – a full-scale\, two-storey house build – will be on display at elementalLONDON this November. \nThe HAUS\, designed by award-winning architects IF_DO and built using regenerative materials by Natural Building Systems\, will feature manufactures and suppliers who share the vision to showcase sustainability and shine a light on innovation. \nelementalLONDON will feature dedicated networking zones\, designed to help you make the most of your time at the show. Whether you’re looking to meet suppliers\, connect with peers\, or discover new business opportunities\, our dedicated spaces make it easy to spark meaningful conversations. \nTake a break from the buzz of the exhibition floor and step into a welcoming environment where connections happen naturally.
URL:https://sustainabilitytoday.co.uk/event/elementallondon
LOCATION:ExCeL\, Royal Victoria Dock\, London\, E16 1XL\, United Kingdom
ATTACH;FMTTYPE=image/jpeg:https://sustainabilitytoday.co.uk/wp-content/uploads/2025/10/elementalLONDON_470_04.jpg
ORGANIZER;CN="Lyrical Communications":MAILTO:aredmayne@lyricalcomms.com
END:VEVENT
END:VCALENDAR