BEGIN:VCALENDAR
VERSION:2.0
PRODID:-//Sustainability Today - ECPv6.15.17.1//NONSGML v1.0//EN
CALSCALE:GREGORIAN
METHOD:PUBLISH
X-ORIGINAL-URL:https://sustainabilitytoday.co.uk
X-WR-CALDESC:Events for Sustainability Today
REFRESH-INTERVAL;VALUE=DURATION:PT1H
X-Robots-Tag:noindex
X-PUBLISHED-TTL:PT1H
BEGIN:VTIMEZONE
TZID:Europe/London
BEGIN:DAYLIGHT
TZOFFSETFROM:+0000
TZOFFSETTO:+0100
TZNAME:BST
DTSTART:20230326T010000
END:DAYLIGHT
BEGIN:STANDARD
TZOFFSETFROM:+0100
TZOFFSETTO:+0000
TZNAME:GMT
DTSTART:20231029T010000
END:STANDARD
BEGIN:DAYLIGHT
TZOFFSETFROM:+0000
TZOFFSETTO:+0100
TZNAME:BST
DTSTART:20240331T010000
END:DAYLIGHT
BEGIN:STANDARD
TZOFFSETFROM:+0100
TZOFFSETTO:+0000
TZNAME:GMT
DTSTART:20241027T010000
END:STANDARD
BEGIN:DAYLIGHT
TZOFFSETFROM:+0000
TZOFFSETTO:+0100
TZNAME:BST
DTSTART:20250330T010000
END:DAYLIGHT
BEGIN:STANDARD
TZOFFSETFROM:+0100
TZOFFSETTO:+0000
TZNAME:GMT
DTSTART:20251026T010000
END:STANDARD
END:VTIMEZONE
BEGIN:VEVENT
DTSTART;TZID=Europe/London:20241120T093000
DTEND;TZID=Europe/London:20241121T160000
DTSTAMP:20260424T210116
CREATED:20240222T101010Z
LAST-MODIFIED:20240222T101010Z
UID:4872-1732095000-1732204800@sustainabilitytoday.co.uk
SUMMARY:EMEX: The Net Zero & Energy Management Expo
DESCRIPTION:EMEX\, The Net Zero and Energy Management Exhibition welcomes an ever-growing range of professionals keen to stay at the forefront of carbon management\, energy efficiency and sustainability. \nWith energy management at the top of organisational priorities\, visitors gain new insights and specialist advice on cost-saving solutions and industry best-practice whilst networking with hundreds of leading suppliers and engaging with industry experts.
URL:https://sustainabilitytoday.co.uk/event/emex-the-net-zero-energy-management-expo
LOCATION:ExCeL\, Royal Victoria Dock\, London\, E16 1XL\, United Kingdom
ATTACH;FMTTYPE=image/jpeg:https://sustainabilitytoday.co.uk/wp-content/uploads/2024/02/EMEX_453_01.jpg
END:VEVENT
END:VCALENDAR