BEGIN:VCALENDAR
VERSION:2.0
PRODID:-//Sustainability Today - ECPv6.15.17.1//NONSGML v1.0//EN
CALSCALE:GREGORIAN
METHOD:PUBLISH
X-WR-CALNAME:Sustainability Today
X-ORIGINAL-URL:https://sustainabilitytoday.co.uk
X-WR-CALDESC:Events for Sustainability Today
REFRESH-INTERVAL;VALUE=DURATION:PT1H
X-Robots-Tag:noindex
X-PUBLISHED-TTL:PT1H
BEGIN:VTIMEZONE
TZID:Europe/London
BEGIN:DAYLIGHT
TZOFFSETFROM:+0000
TZOFFSETTO:+0100
TZNAME:BST
DTSTART:20250330T010000
END:DAYLIGHT
BEGIN:STANDARD
TZOFFSETFROM:+0100
TZOFFSETTO:+0000
TZNAME:GMT
DTSTART:20251026T010000
END:STANDARD
BEGIN:DAYLIGHT
TZOFFSETFROM:+0000
TZOFFSETTO:+0100
TZNAME:BST
DTSTART:20260329T010000
END:DAYLIGHT
BEGIN:STANDARD
TZOFFSETFROM:+0100
TZOFFSETTO:+0000
TZNAME:GMT
DTSTART:20261025T010000
END:STANDARD
BEGIN:DAYLIGHT
TZOFFSETFROM:+0000
TZOFFSETTO:+0100
TZNAME:BST
DTSTART:20270328T010000
END:DAYLIGHT
BEGIN:STANDARD
TZOFFSETFROM:+0100
TZOFFSETTO:+0000
TZNAME:GMT
DTSTART:20271031T010000
END:STANDARD
END:VTIMEZONE
BEGIN:VEVENT
DTSTART;TZID=Europe/London:20260616T083000
DTEND;TZID=Europe/London:20260617T170000
DTSTAMP:20260423T080103
CREATED:20251120T124630Z
LAST-MODIFIED:20251120T124630Z
UID:5565-1781598600-1781715600@sustainabilitytoday.co.uk
SUMMARY:Global Offshore Wind 2026
DESCRIPTION:Global Offshore Wind returns to Manchester \nIn June 2026\, Global Offshore Wind 2026 returns to Manchester Central for the flagship event that brings the entire offshore wind value chain together to turn global ambitions into reality. \nOffshore wind is a cornerstone of the UK’s long-term strategy for energy security\, economic growth and global leadership in clean technology. As momentum continues at home and internationally\, Global Offshore Wind 2026 will bring together the people\, policies and innovations shaping the future of the industry. \nStand bookings and sponsorship opportunities are now open and selling fast. Don’t miss your chance to elevate your brand and meet the market at one of Europe’s largest and most influential offshore wind events. \nRegister Now
URL:https://sustainabilitytoday.co.uk/event/global-offshore-wind-2026
LOCATION:Manchester Central\, Petersfield\, Manchester\, M2 3GX\, United Kingdom
ATTACH;FMTTYPE=image/jpeg:https://sustainabilitytoday.co.uk/wp-content/uploads/2025/11/GlobalOffshoreWind2026_Event.jpg
ORGANIZER;CN="RenewableUK":MAILTO:Events@RenewableUK.com
END:VEVENT
END:VCALENDAR