BEGIN:VCALENDAR
VERSION:2.0
PRODID:-//Sustainability Today - ECPv6.15.17.1//NONSGML v1.0//EN
CALSCALE:GREGORIAN
METHOD:PUBLISH
X-WR-CALNAME:Sustainability Today
X-ORIGINAL-URL:https://sustainabilitytoday.co.uk
X-WR-CALDESC:Events for Sustainability Today
REFRESH-INTERVAL;VALUE=DURATION:PT1H
X-Robots-Tag:noindex
X-PUBLISHED-TTL:PT1H
BEGIN:VTIMEZONE
TZID:Europe/London
BEGIN:DAYLIGHT
TZOFFSETFROM:+0000
TZOFFSETTO:+0100
TZNAME:BST
DTSTART:20250330T010000
END:DAYLIGHT
BEGIN:STANDARD
TZOFFSETFROM:+0100
TZOFFSETTO:+0000
TZNAME:GMT
DTSTART:20251026T010000
END:STANDARD
BEGIN:DAYLIGHT
TZOFFSETFROM:+0000
TZOFFSETTO:+0100
TZNAME:BST
DTSTART:20260329T010000
END:DAYLIGHT
BEGIN:STANDARD
TZOFFSETFROM:+0100
TZOFFSETTO:+0000
TZNAME:GMT
DTSTART:20261025T010000
END:STANDARD
BEGIN:DAYLIGHT
TZOFFSETFROM:+0000
TZOFFSETTO:+0100
TZNAME:BST
DTSTART:20270328T010000
END:DAYLIGHT
BEGIN:STANDARD
TZOFFSETFROM:+0100
TZOFFSETTO:+0000
TZNAME:GMT
DTSTART:20271031T010000
END:STANDARD
END:VTIMEZONE
BEGIN:VEVENT
DTSTART;TZID=Europe/London:20260623T090000
DTEND;TZID=Europe/London:20260625T160000
DTSTAMP:20260422T235315
CREATED:20241011T152000Z
LAST-MODIFIED:20241112T102926Z
UID:5139-1782205200-1782403200@sustainabilitytoday.co.uk
SUMMARY:Hillhead
DESCRIPTION:Attracting more than 19\,500 trade visitors and featuring an impressive 599 exhibitors across three show days\, Hillhead 2024 – the biggest working quarrying exhibition on the planet – once again raised the ante\, showcasing a plethora of new products\, cutting-edge technologies\, and innovative trends that promise to shape the future of the industry. \nThree days of live demonstrations\, over 600 exhibitors and thousands of products for the quarrying\, construction and recycling industries. \nPut your products and services in front of nearly 20\,000 industry visitors from across the quarrying\, construction and recycling sectors. \nThe working demonstration areas are what make Hillhead unique. Having the opportunity to see plant and equipment doing a real ‘job of work’ in a live quarry environment is invaluable for both exhibitors and visitors alike. \nThe 2024 show saw nearly 600 of the world’s leading equipment manufacturers\, suppliers and service providers taking part.
URL:https://sustainabilitytoday.co.uk/event/hillhead-2026
LOCATION:Hillhead Quarry\, Harpur Hill\, Nr Buxton\, Derbyshire\, SK17 9PR\, United Kingdom
ATTACH;FMTTYPE=image/jpeg:https://sustainabilitytoday.co.uk/wp-content/uploads/2024/10/Hillhead2026_Event.jpg
ORGANIZER;CN="The QMJ Group Ltd":MAILTO:hillhead@qmj.co.uk
END:VEVENT
END:VCALENDAR