BEGIN:VCALENDAR
VERSION:2.0
PRODID:-//Sustainability Today - ECPv6.15.17.1//NONSGML v1.0//EN
CALSCALE:GREGORIAN
METHOD:PUBLISH
X-WR-CALNAME:Sustainability Today
X-ORIGINAL-URL:https://sustainabilitytoday.co.uk
X-WR-CALDESC:Events for Sustainability Today
REFRESH-INTERVAL;VALUE=DURATION:PT1H
X-Robots-Tag:noindex
X-PUBLISHED-TTL:PT1H
BEGIN:VTIMEZONE
TZID:Europe/London
BEGIN:DAYLIGHT
TZOFFSETFROM:+0000
TZOFFSETTO:+0100
TZNAME:BST
DTSTART:20250330T010000
END:DAYLIGHT
BEGIN:STANDARD
TZOFFSETFROM:+0100
TZOFFSETTO:+0000
TZNAME:GMT
DTSTART:20251026T010000
END:STANDARD
BEGIN:DAYLIGHT
TZOFFSETFROM:+0000
TZOFFSETTO:+0100
TZNAME:BST
DTSTART:20260329T010000
END:DAYLIGHT
BEGIN:STANDARD
TZOFFSETFROM:+0100
TZOFFSETTO:+0000
TZNAME:GMT
DTSTART:20261025T010000
END:STANDARD
BEGIN:DAYLIGHT
TZOFFSETFROM:+0000
TZOFFSETTO:+0100
TZNAME:BST
DTSTART:20270328T010000
END:DAYLIGHT
BEGIN:STANDARD
TZOFFSETFROM:+0100
TZOFFSETTO:+0000
TZNAME:GMT
DTSTART:20271031T010000
END:STANDARD
END:VTIMEZONE
BEGIN:VEVENT
DTSTART;TZID=Europe/London:20260708T090000
DTEND;TZID=Europe/London:20260709T170000
DTSTAMP:20260423T120953
CREATED:20260312T103603Z
LAST-MODIFIED:20260312T103603Z
UID:5715-1783501200-1783616400@sustainabilitytoday.co.uk
SUMMARY:The World Biogas Expo 2026
DESCRIPTION:The World Biogas Expo\, co-organised by the Anaerobic Digestion and Bioresources Association (ADBA) and the World Biogas Association (WBA)\, is the leading global trade show for the biogas and anaerobic digestion industry. \nSince its launch in 2010\, the Expo has grown into a key meeting point for the international biogas community\, bringing together innovators\, policymakers\, investors and industry leaders from across the sector. \nThe event features 100+ exhibition stands\, dozens of expert speakers and thousands of delegates\, showcasing the latest technologies\, solutions and opportunities shaping the future of renewable gas and sustainable resource management. \nThe World Biogas Expo is the must-attend event for anyone involved in the global biogas industry. \nVisit our website \nRegister FREE
URL:https://sustainabilitytoday.co.uk/event/the-world-biogas-expo-2026
LOCATION:NEC\, Pendigo Way\, Marston Green\, Birmingham\, West Midlands\, B40 1NT\, United Kingdom
ATTACH;FMTTYPE=image/jpeg:https://sustainabilitytoday.co.uk/wp-content/uploads/2026/03/WorldBiogasExpo_Event3.jpg
ORGANIZER;CN="World Biogas Association":MAILTO:info@worldbiogasassociation.org
END:VEVENT
END:VCALENDAR